BEGIN:VCALENDAR
PRODID:-//AT Content Types//AT Event//EN
VERSION:1.0
BEGIN:VEVENT
DTSTART:20090911T140000Z
DTEND:20090911T200000Z
DCREATED:20090830T123535Z
UID:ATEvent-6d1970e0f51dcc25d78f8d55b2c1498e
SEQUENCE:0
LAST-MODIFIED:20100503T084348Z
SUMMARY:Den bez bariér (11.9.2009)
LOCATION:Areál Jeskyně Blanických rytířů
PRIORITY:3
TRANSP:0
END:VEVENT
END:VCALENDAR
