BEGIN:VCALENDAR
PRODID:-//AT Content Types//AT Event//EN
VERSION:2.0
METHOD:PUBLISH
BEGIN:VEVENT
DTSTAMP:20260423T112003Z
CREATED:20100605T182355Z
UID:ATEvent-7253a58ec79055c5eeea60d53288f9a9
LAST-MODIFIED:20100614T120233Z
SUMMARY:Koncert Kaderus Blues
DTSTART:20100618T160000Z
DTEND:20100618T180000Z
LOCATION:Jeskyně Blanických rytířů
CLASS:PUBLIC
END:VEVENT
END:VCALENDAR
