BEGIN:VCALENDAR
PRODID:-//AT Content Types//AT Event//EN
VERSION:1.0
BEGIN:VEVENT
DTSTART:20090502T120000Z
DTEND:20090502T140000Z
DCREATED:20090423T180132Z
UID:ATEvent-8cf6bf47fc43f795a9244a61630e98d8
SEQUENCE:0
LAST-MODIFIED:20100503T084057Z
SUMMARY:Slavnostní sázení stromů nevidomými (2.5.2009)
LOCATION:Areál Jeskyně Blanických rytířů
PRIORITY:3
TRANSP:0
END:VEVENT
END:VCALENDAR
