BEGIN:VCALENDAR
PRODID:-//AT Content Types//AT Event//EN
VERSION:1.0
BEGIN:VEVENT
DTSTART:20100724T140000Z
DTEND:20100724T182500Z
DCREATED:20100731T182236Z
UID:ATEvent-148f6c583de506d0a9711112cafd3fc4
SEQUENCE:0
LAST-MODIFIED:20180830T195430Z
SUMMARY:Vernisáž fotografií Oldřicha Klímy
LOCATION:Jeskyně Blanických rytířů
PRIORITY:3
TRANSP:0
END:VEVENT
END:VCALENDAR
