BEGIN:VCALENDAR
PRODID:-//AT Content Types//AT Event//EN
VERSION:1.0
BEGIN:VEVENT
DTSTART:20100718T220000Z
DTEND:20100723T220000Z
DCREATED:20100731T181811Z
UID:ATEvent-b75a423b44b2a1e7290831a393240de8
SEQUENCE:0
LAST-MODIFIED:20100731T181816Z
SUMMARY:Výtvarný workshop pro mentálně postižené pod vedením výtvarnice Martin Marianne ze Švýcarska
LOCATION:Jeskyně Blanických rytířů
PRIORITY:3
TRANSP:0
END:VEVENT
END:VCALENDAR
